BEGIN:VCALENDAR
VERSION:2.0
PRODID:icalendar-ruby
CALSCALE:GREGORIAN
METHOD:PUBLISH
BEGIN:VEVENT
DTSTAMP:20260423T095212Z
UID:https://www.seachangeproperty.com.au/property?property_id=1761394
DTSTART:20260514T183000
DTEND:20260514T190000
CLASS:PUBLIC
CREATED:20260416T175132
DESCRIPTION: 
LAST-MODIFIED:20260423T151508
LOCATION:878 Nepean Highway\, MORNINGTON VIC 3931\, Australia
SUMMARY:878 Nepean Highway\,  Auction
URL;VALUE=URI:https://www.seachangeproperty.com.au/property?property_id=176
 1394
END:VEVENT
END:VCALENDAR
